BEGIN:VCALENDAR
VERSION:2.0
PRODID:-//IREACCH - ECPv6.15.20//NONSGML v1.0//EN
CALSCALE:GREGORIAN
METHOD:PUBLISH
X-ORIGINAL-URL:https://ireacch.le.ac.uk
X-WR-CALDESC:Events for IREACCH
REFRESH-INTERVAL;VALUE=DURATION:PT1H
X-Robots-Tag:noindex
X-PUBLISHED-TTL:PT1H
BEGIN:VTIMEZONE
TZID:UTC
BEGIN:STANDARD
TZOFFSETFROM:+0000
TZOFFSETTO:+0000
TZNAME:UTC
DTSTART:20250101T000000
END:STANDARD
END:VTIMEZONE
BEGIN:VEVENT
DTSTART;TZID=UTC:20260220T120000
DTEND;TZID=UTC:20260220T133000
DTSTAMP:20260425T123958
CREATED:20260122T095105Z
LAST-MODIFIED:20260122T095105Z
UID:2635-1771588800-1771594200@ireacch.le.ac.uk
SUMMARY:Leaders' workshop: Building trust in challenging times
DESCRIPTION:This 90 virtual minute workshop provides research leaders with practical tools to cultivate a culture of trust and psychological safety\, even when the broader environment feels uncertain. You will gain actionable techniques to lead with greater transparency and connection\, enabling you to move away from reacting to external shifts to leading with greater clarity\, confidence\, and empathy. \nOnline: Friday 20 February 2026\, 12 midday – 13:30 \nTo register interest\, please complete the registration form \n 
URL:https://ireacch.le.ac.uk/event/leaders-workshop-building-trust-in-challenging-times/
LOCATION:online
ATTACH;FMTTYPE=image/png:https://ireacch.le.ac.uk/wp-content/uploads/2026/01/KinCo-building-trust-workshop-e1769075319316.png
END:VEVENT
BEGIN:VEVENT
DTSTART;TZID=UTC:20260420T090000
DTEND;TZID=UTC:20260424T170000
DTSTAMP:20260425T123958
CREATED:20260226T161748Z
LAST-MODIFIED:20260421T112919Z
UID:2641-1776675600-1777050000@ireacch.le.ac.uk
SUMMARY:Research Culture Takeover Week 2026
DESCRIPTION:Join us from 20 to 24 April for Research Culture Takeover Week 2026 – five days of workshops\, research showcases\, training\, and a national conference open to everyone! \nResearch Culture Takeover Week brings together the University of Leicester and wider community to celebrate research\, researchers\, research-enablers\, and research culture. These in-person and hybrid events have been organised in collaboration with the research community at Leicester to help build connections\, share good practices\, and promote a positive and inclusive research environment for everyone. \nAll events are open to the research community – including postgraduate researchers\, research and teaching staff at all career stages\, technicians\, professional services\, third space professionals\, and anyone with an interest in promoting inclusion. \nThere are lots of ways to get involved in Research Culture Takeover Week. You’re invited to share your work on creating more equitable and inclusive research and teaching environments in our EDI showcase. Staff and students in the College of Business are also invited to showcase their research and take part in cross-disciplinary conversations. \nProgramme\nPlease note: More events will be added when details are confirmed. We have made as many events as possible hybrid but some are in-person only due to format restrictions. \nMonday 20 April 2026\n10:30-12:00         Applying for Jobs [In person] \n11:00-14:00         From Vision to Values: Research Culture in Grant-writing [Hybrid] \n13:00-14.30         Making Voices Heard – Creative Engagement Project [Hybrid] \nTuesday 21 April 2026\n09:30-12:00         Giving a Great (Conference) Presentation training workshop [In person] \n10:00-12:00         Publishing Your Research workshop [In person] \n13:00-15:30         Communicating Your Work with Non-Specialists training [In person] \n14:00-16:00         Intro to the Scholarship of Teaching and Learning workshop [In person] \nWednesday 22 April 2026\n11:00-15:30         College of Business Showcase [Hybrid] \n14:00-15:30         Enhancing Cultural Understanding: The Black Student Experience in HE [In person] \nThursday 23 April 2026\n11:00-13:00         Equity\, Diversity and Inclusion Showcase [Hybrid] \n13:00-14:00         Communicating Research-Inspired Education to Students [In person] \n14:00-16:00         College of Social Sciences\, Arts and Humanities Research Centres Showcase [Hybrid] \nFriday 24 April 2026\n09:30-16:30         Disrupting the Default: Race\, Inclusion and Research Cultures conference [Hybrid]
URL:https://ireacch.le.ac.uk/event/research-culture-takeover-week-2026/
ATTACH;FMTTYPE=image/png:https://ireacch.le.ac.uk/wp-content/uploads/2026/02/Research-Culture-Takeover-Week-scaled-e1772122574966.png
END:VEVENT
END:VCALENDAR